Package: clusterProfiler Version: 4.17.0 Command: /home/rapidbuild/bbs-3.22-bioc-rapid/R/bin/R CMD build --keep-empty-dirs --no-resave-data clusterProfiler StartedAt: 2025-06-17 18:41:12 -0400 (Tue, 17 Jun 2025) EndedAt: 2025-06-17 18:41:35 -0400 (Tue, 17 Jun 2025) EllapsedTime: 22.6 seconds RetCode: 0 Status: OK PackageFile: clusterProfiler_4.17.0.tar.gz PackageFileSize: 611 KiB