Package: basilisk Version: 1.21.5 Maintainer: Aaron Lun MaintainerEmail: infinite.monkeys.with.keyboards at gmail.com git_url: https://git.bioconductor.org/packages/basilisk git_branch: devel git_last_commit: e93af07 git_last_commit_date: 2025-05-19 16:40:18 -0400 (Mon, 19 May 2025)