Package: basilisk.utils Version: 1.21.2 Command: /home/rapidbuild/bbs-3.22-bioc-rapid/R/bin/R CMD INSTALL basilisk.utils StartedAt: 2025-06-17 18:06:12 -0400 (Tue, 17 Jun 2025) EndedAt: 2025-06-17 18:06:14 -0400 (Tue, 17 Jun 2025) EllapsedTime: 2.0 seconds RetCode: 0 Status: OK