Package: annotate Version: 1.87.0 Command: /home/rapidbuild/bbs-3.22-bioc-rapid/R/bin/R CMD INSTALL annotate StartedAt: 2025-06-17 18:22:11 -0400 (Tue, 17 Jun 2025) EndedAt: 2025-06-17 18:22:24 -0400 (Tue, 17 Jun 2025) EllapsedTime: 13.2 seconds RetCode: 0 Status: OK