Package: annotate Version: 1.87.0 Command: /home/rapidbuild/bbs-3.22-bioc-rapid/R/bin/R CMD build --keep-empty-dirs --no-resave-data annotate StartedAt: 2025-06-17 18:32:41 -0400 (Tue, 17 Jun 2025) EndedAt: 2025-06-17 18:33:37 -0400 (Tue, 17 Jun 2025) EllapsedTime: 55.6 seconds RetCode: 0 Status: OK PackageFile: annotate_1.87.0.tar.gz PackageFileSize: 1.785 MiB