Package: alabaster.base Version: 1.9.2 Maintainer: Aaron Lun MaintainerEmail: infinite.monkeys.with.keyboards at gmail.com git_url: https://git.bioconductor.org/packages/alabaster.base git_branch: devel git_last_commit: 6bc479d git_last_commit_date: 2025-06-04 13:56:00 -0400 (Wed, 04 Jun 2025)