Package: VariantAnnotation Version: 1.55.0 Command: /home/rapidbuild/bbs-3.22-bioc-rapid/R/bin/R CMD build --keep-empty-dirs --no-resave-data VariantAnnotation StartedAt: 2025-06-17 19:45:11 -0400 (Tue, 17 Jun 2025) EndedAt: 2025-06-17 19:47:37 -0400 (Tue, 17 Jun 2025) EllapsedTime: 146.1 seconds RetCode: 0 Status: OK PackageFile: VariantAnnotation_1.55.0.tar.gz PackageFileSize: 2.045 MiB