Package: SummarizedExperiment Version: 1.39.0 Maintainer: Hervé Pagès MaintainerEmail: hpages.on.github at gmail.com git_url: https://git.bioconductor.org/packages/SummarizedExperiment git_branch: devel git_last_commit: 494ca9f git_last_commit_date: 2025-04-27 18:40:43 -0400 (Sun, 27 Apr 2025)