Package: Rigraphlib Version: 1.1.1 Command: /home/rapidbuild/bbs-3.22-bioc-rapid/R/bin/R CMD build --keep-empty-dirs --no-resave-data Rigraphlib StartedAt: 2025-06-17 19:29:30 -0400 (Tue, 17 Jun 2025) EndedAt: 2025-06-17 19:29:52 -0400 (Tue, 17 Jun 2025) EllapsedTime: 22.0 seconds RetCode: 0 Status: OK PackageFile: Rigraphlib_1.1.1.tar.gz PackageFileSize: 4.323 MiB