Package: Rhtslib Version: 3.5.0 Command: /home/rapidbuild/bbs-3.22-bioc-rapid/R/bin/R CMD build --keep-empty-dirs --no-resave-data Rhtslib StartedAt: 2025-06-17 19:28:58 -0400 (Tue, 17 Jun 2025) EndedAt: 2025-06-17 19:30:22 -0400 (Tue, 17 Jun 2025) EllapsedTime: 84.0 seconds RetCode: 0 Status: OK PackageFile: Rhtslib_3.5.0.tar.gz PackageFileSize: 4.91 MiB