Package: ReportingTools Version: 2.49.0 Command: /home/rapidbuild/bbs-3.22-bioc-rapid/R/bin/R CMD INSTALL ReportingTools StartedAt: 2025-06-17 18:30:19 -0400 (Tue, 17 Jun 2025) EndedAt: 2025-06-17 18:31:11 -0400 (Tue, 17 Jun 2025) EllapsedTime: 51.9 seconds RetCode: 0 Status: OK