Package: ProtGenerics Version: 1.41.0 Command: /home/rapidbuild/bbs-3.22-bioc-rapid/R/bin/R CMD INSTALL ProtGenerics StartedAt: 2025-06-17 18:09:26 -0400 (Tue, 17 Jun 2025) EndedAt: 2025-06-17 18:09:29 -0400 (Tue, 17 Jun 2025) EllapsedTime: 3.0 seconds RetCode: 0 Status: OK