Package: ProtGenerics Version: 1.41.0 Command: /home/rapidbuild/bbs-3.22-bioc-rapid/R/bin/R CMD build --keep-empty-dirs --no-resave-data ProtGenerics StartedAt: 2025-06-17 19:22:43 -0400 (Tue, 17 Jun 2025) EndedAt: 2025-06-17 19:22:44 -0400 (Tue, 17 Jun 2025) EllapsedTime: 1.0 seconds RetCode: 0 Status: OK PackageFile: ProtGenerics_1.41.0.tar.gz PackageFileSize: 10.88 KiB