Package: MsFeatures Version: 1.17.1 Command: /home/rapidbuild/bbs-3.22-bioc-rapid/R/bin/R CMD INSTALL MsFeatures StartedAt: 2025-06-17 18:20:43 -0400 (Tue, 17 Jun 2025) EndedAt: 2025-06-17 18:21:01 -0400 (Tue, 17 Jun 2025) EllapsedTime: 17.4 seconds RetCode: 0 Status: OK