Package: MsCoreUtils Version: 1.21.0 Command: /home/rapidbuild/bbs-3.22-bioc-rapid/R/bin/R CMD INSTALL MsCoreUtils StartedAt: 2025-06-17 18:15:15 -0400 (Tue, 17 Jun 2025) EndedAt: 2025-06-17 18:15:20 -0400 (Tue, 17 Jun 2025) EllapsedTime: 5.3 seconds RetCode: 0 Status: OK