Package: MsCoreUtils Version: 1.21.0 Command: /home/rapidbuild/bbs-3.22-bioc-rapid/R/bin/R CMD build --keep-empty-dirs --no-resave-data MsCoreUtils StartedAt: 2025-06-17 19:15:48 -0400 (Tue, 17 Jun 2025) EndedAt: 2025-06-17 19:15:57 -0400 (Tue, 17 Jun 2025) EllapsedTime: 9.0 seconds RetCode: 0 Status: OK PackageFile: MsCoreUtils_1.21.0.tar.gz PackageFileSize: 414.3 KiB