Package: MsBackendSql Version: 1.9.0 Command: /home/rapidbuild/bbs-3.22-bioc-rapid/R/bin/R CMD INSTALL MsBackendSql StartedAt: 2025-06-17 18:17:09 -0400 (Tue, 17 Jun 2025) EndedAt: 2025-06-17 18:17:26 -0400 (Tue, 17 Jun 2025) EllapsedTime: 17.0 seconds RetCode: 0 Status: OK