Package: MetaboCoreUtils Version: 1.17.1 Command: /home/rapidbuild/bbs-3.22-bioc-rapid/R/bin/R CMD build --keep-empty-dirs --no-resave-data MetaboCoreUtils StartedAt: 2025-06-17 19:14:13 -0400 (Tue, 17 Jun 2025) EndedAt: 2025-06-17 19:14:27 -0400 (Tue, 17 Jun 2025) EllapsedTime: 14.3 seconds RetCode: 0 Status: OK PackageFile: MetaboCoreUtils_1.17.1.tar.gz PackageFileSize: 1.278 MiB