Package: MSnbase Version: 2.35.0 Maintainer: Laurent Gatto MaintainerEmail: laurent.gatto at uclouvain.be git_url: https://git.bioconductor.org/packages/MSnbase git_branch: devel git_last_commit: 3c33fcf git_last_commit_date: 2025-04-15 10:02:19 -0400 (Tue, 15 Apr 2025)