Package: HDF5Array Version: 1.37.0 Command: /home/rapidbuild/bbs-3.22-bioc-rapid/R/bin/R CMD INSTALL HDF5Array StartedAt: 2025-06-17 18:15:02 -0400 (Tue, 17 Jun 2025) EndedAt: 2025-06-17 18:15:21 -0400 (Tue, 17 Jun 2025) EllapsedTime: 19.0 seconds RetCode: 0 Status: OK