Package: GenomicAlignments Version: 1.45.0 Command: /home/rapidbuild/bbs-3.22-bioc-rapid/R/bin/R CMD build --keep-empty-dirs --no-resave-data GenomicAlignments StartedAt: 2025-06-17 18:58:21 -0400 (Tue, 17 Jun 2025) EndedAt: 2025-06-17 19:00:06 -0400 (Tue, 17 Jun 2025) EllapsedTime: 105.7 seconds RetCode: 0 Status: OK PackageFile: GenomicAlignments_1.45.0.tar.gz PackageFileSize: 2.166 MiB