Package: GenomicAlignments Version: 1.45.0 Maintainer: Hervé Pagès MaintainerEmail: hpages.on.github at gmail.com git_url: https://git.bioconductor.org/packages/GenomicAlignments git_branch: devel git_last_commit: bd1d8cc git_last_commit_date: 2025-04-15 10:27:42 -0400 (Tue, 15 Apr 2025)