Package: DynDoc Version: 1.87.0 Command: /home/rapidbuild/bbs-3.22-bioc-rapid/R/bin/R CMD INSTALL DynDoc StartedAt: 2025-06-17 18:06:09 -0400 (Tue, 17 Jun 2025) EndedAt: 2025-06-17 18:06:12 -0400 (Tue, 17 Jun 2025) EllapsedTime: 3.0 seconds RetCode: 0 Status: OK