Package: DynDoc Version: 1.87.0 Command: /home/rapidbuild/bbs-3.22-bioc-rapid/R/bin/R CMD build --keep-empty-dirs --no-resave-data DynDoc StartedAt: 2025-06-17 18:46:43 -0400 (Tue, 17 Jun 2025) EndedAt: 2025-06-17 18:46:44 -0400 (Tue, 17 Jun 2025) EllapsedTime: 1.0 seconds RetCode: 0 Status: OK PackageFile: DynDoc_1.87.0.tar.gz PackageFileSize: 10.96 KiB