Package: DropletUtils Version: 1.29.3 Maintainer: Jonathan Griffiths MaintainerEmail: jonathan.griffiths.94 at gmail.com git_url: https://git.bioconductor.org/packages/DropletUtils git_branch: devel git_last_commit: a1b8da1 git_last_commit_date: 2025-06-14 01:53:48 -0400 (Sat, 14 Jun 2025)