Package: DelayedArray Version: 0.35.1 Command: /home/rapidbuild/bbs-3.22-bioc-rapid/R/bin/R CMD INSTALL DelayedArray StartedAt: 2025-06-17 18:14:18 -0400 (Tue, 17 Jun 2025) EndedAt: 2025-06-17 18:14:46 -0400 (Tue, 17 Jun 2025) EllapsedTime: 28.1 seconds RetCode: 0 Status: OK