Package: DelayedArray Version: 0.35.1 Command: /home/rapidbuild/bbs-3.22-bioc-rapid/R/bin/R CMD build --keep-empty-dirs --no-resave-data DelayedArray StartedAt: 2025-06-17 18:42:53 -0400 (Tue, 17 Jun 2025) EndedAt: 2025-06-17 18:43:40 -0400 (Tue, 17 Jun 2025) EllapsedTime: 47.3 seconds RetCode: 0 Status: OK PackageFile: DelayedArray_0.35.1.tar.gz PackageFileSize: 795.8 KiB