Package: CytoML Version: 2.21.0 Command: /home/rapidbuild/bbs-3.22-bioc-rapid/R/bin/R CMD INSTALL CytoML StartedAt: 2025-06-17 18:21:14 -0400 (Tue, 17 Jun 2025) EndedAt: 2025-06-17 18:22:03 -0400 (Tue, 17 Jun 2025) EllapsedTime: 48.3 seconds RetCode: 0 Status: OK