Package: CytoML Version: 2.21.0 Command: /home/rapidbuild/bbs-3.22-bioc-rapid/R/bin/R CMD build --keep-empty-dirs --no-resave-data CytoML StartedAt: 2025-06-17 18:41:58 -0400 (Tue, 17 Jun 2025) EndedAt: 2025-06-17 18:43:10 -0400 (Tue, 17 Jun 2025) EllapsedTime: 71.6 seconds RetCode: 0 Status: OK PackageFile: CytoML_2.21.0.tar.gz PackageFileSize: 8.052 MiB