Package: ConsensusClusterPlus Version: 1.73.0 Command: /home/rapidbuild/bbs-3.22-bioc-rapid/R/bin/R CMD build --keep-empty-dirs --no-resave-data ConsensusClusterPlus StartedAt: 2025-06-17 18:41:35 -0400 (Tue, 17 Jun 2025) EndedAt: 2025-06-17 18:41:44 -0400 (Tue, 17 Jun 2025) EllapsedTime: 9.0 seconds RetCode: 0 Status: OK PackageFile: ConsensusClusterPlus_1.73.0.tar.gz PackageFileSize: 408.3 KiB