Package: CompoundDb Version: 1.13.0 Command: /home/rapidbuild/bbs-3.22-bioc-rapid/R/bin/R CMD INSTALL CompoundDb StartedAt: 2025-06-17 18:19:05 -0400 (Tue, 17 Jun 2025) EndedAt: 2025-06-17 18:19:22 -0400 (Tue, 17 Jun 2025) EllapsedTime: 16.8 seconds RetCode: 0 Status: OK