Package: CompoundDb Version: 1.13.0 Command: /home/rapidbuild/bbs-3.22-bioc-rapid/R/bin/R CMD build --keep-empty-dirs --no-resave-data CompoundDb StartedAt: 2025-06-17 18:41:34 -0400 (Tue, 17 Jun 2025) EndedAt: 2025-06-17 18:42:04 -0400 (Tue, 17 Jun 2025) EllapsedTime: 30.2 seconds RetCode: 0 Status: OK PackageFile: CompoundDb_1.13.0.tar.gz PackageFileSize: 1.303 MiB