Package: BumpyMatrix Version: 1.17.0 Command: /home/rapidbuild/bbs-3.22-bioc-rapid/R/bin/R CMD build --keep-empty-dirs --no-resave-data BumpyMatrix StartedAt: 2025-06-17 18:39:43 -0400 (Tue, 17 Jun 2025) EndedAt: 2025-06-17 18:40:02 -0400 (Tue, 17 Jun 2025) EllapsedTime: 19.0 seconds RetCode: 0 Status: OK PackageFile: BumpyMatrix_1.17.0.tar.gz PackageFileSize: 317.6 KiB