Package: BiocFileCache Version: 2.99.5 Command: /home/rapidbuild/bbs-3.22-bioc-rapid/R/bin/R CMD build --keep-empty-dirs --no-resave-data BiocFileCache StartedAt: 2025-06-17 18:36:00 -0400 (Tue, 17 Jun 2025) EndedAt: 2025-06-17 18:36:56 -0400 (Tue, 17 Jun 2025) EllapsedTime: 56.2 seconds RetCode: 0 Status: OK PackageFile: BiocFileCache_2.99.5.tar.gz PackageFileSize: 725.4 KiB