Package: AnnotationHubData Version: 1.39.1 Command: /home/rapidbuild/bbs-3.22-bioc-rapid/R/bin/R CMD INSTALL AnnotationHubData StartedAt: 2025-06-17 18:28:00 -0400 (Tue, 17 Jun 2025) EndedAt: 2025-06-17 18:28:37 -0400 (Tue, 17 Jun 2025) EllapsedTime: 36.6 seconds RetCode: 0 Status: OK