Package: AnnotationDbi Version: 1.71.0 Command: /home/rapidbuild/bbs-3.22-bioc-rapid/R/bin/R CMD build --keep-empty-dirs --no-resave-data AnnotationDbi StartedAt: 2025-06-17 18:32:48 -0400 (Tue, 17 Jun 2025) EndedAt: 2025-06-17 18:33:36 -0400 (Tue, 17 Jun 2025) EllapsedTime: 47.9 seconds RetCode: 0 Status: OK PackageFile: AnnotationDbi_1.71.0.tar.gz PackageFileSize: 4.171 MiB